BEGIN:VCALENDAR
VERSION:2.0
PRODID:-//Tukios.com/
BEGIN:VEVENT
UID:1e96c9bd-84e2-4363-bb7f-34ee3e2adf89@www.cjwilliamsmortuarycenter.com
DTSTAMP:20260422T002929Z
DTSTART:20260509T160000Z
DTEND:20260509T170000Z
SUMMARY:Memorial Service
DESCRIPTION:
URL:https://www.cjwilliamsmortuarycenter.com/obituaries/moses-young
LOCATION: 901 Monroe Street  Vicksburg MS 39180
GEO:32.3534682;-90.8786487
END:VEVENT
END:VCALENDAR